BEGIN:VCALENDAR
VERSION:2.0
PRODID:-//eventon.com NONSGML v1.0//EN
CALSCALE:GREGORIAN
METHOD:PUBLISH
BEGIN:VEVENT
UID:69e8a52a20fd4
DTSTAMP:20260422T103834Z
DTSTART:20240219T140000Z
DTEND:20240219T150000Z
LOCATION:Bremo Pharmacy Training Center 2002 Staples Mill Rd\,  Richmond\,  VA 23230\,  USA
SUMMARY:1 Hour Refresher *FULL*
DESCRIPTION:Class is full.&nbsp; Please register for next available 1-hour 
 refresher. Any cancellations should be made at least 24 hours prior to the 
 first day of class. Please bring a picture ID. Students late for class will
  need to register for the next available course.\nhttps://bremorx.com/event
 s/1-hour-refresher-71/
URL:https://bremorx.com/events/1-hour-refresher-71/
END:VEVENT
END:VCALENDAR